BEGIN:VCALENDAR
VERSION:2.0
PRODID:-//RDAS - ECPv5.0.2.1//NONSGML v1.0//EN
CALSCALE:GREGORIAN
METHOD:PUBLISH
X-WR-CALNAME:RDAS
X-ORIGINAL-URL:https://rdas.org.au
X-WR-CALDESC:Events for RDAS
BEGIN:VTIMEZONE
TZID:Australia/Sydney
BEGIN:STANDARD
TZOFFSETFROM:+1100
TZOFFSETTO:+1000
TZNAME:AEST
DTSTART:20200404T160000
END:STANDARD
BEGIN:DAYLIGHT
TZOFFSETFROM:+1000
TZOFFSETTO:+1100
TZNAME:AEDT
DTSTART:20201003T160000
END:DAYLIGHT
END:VTIMEZONE
BEGIN:VEVENT
DTSTART;TZID=Australia/Sydney:20200217T080000
DTEND;TZID=Australia/Sydney:20200227T170000
DTSTAMP:20200227T180235
CREATED:20200122T230508Z
LAST-MODIFIED:20200122T230508Z
UID:2918-1581926400-1582822800@rdas.org.au
SUMMARY:Making the most of the NDIS
DESCRIPTION: \n
URL:https://rdas.org.au/event/making-the-most-of-the-ndis/
LOCATION:Wagga RSL\, Dobbs street\, Wagga Wagga\, New South Wales\, Australia
CATEGORIES:Training
END:VEVENT
END:VCALENDAR