BEGIN:VCALENDAR
VERSION:2.0
PRODID:-//RDAS - ECPv5.0.2.1//NONSGML v1.0//EN
CALSCALE:GREGORIAN
METHOD:PUBLISH
X-WR-CALNAME:RDAS
X-ORIGINAL-URL:https://rdas.org.au
X-WR-CALDESC:Events for RDAS
BEGIN:VTIMEZONE
TZID:Australia/Sydney
BEGIN:STANDARD
TZOFFSETFROM:+1100
TZOFFSETTO:+1000
TZNAME:AEST
DTSTART:20200404T160000
END:STANDARD
BEGIN:DAYLIGHT
TZOFFSETFROM:+1000
TZOFFSETTO:+1100
TZNAME:AEDT
DTSTART:20201003T160000
END:DAYLIGHT
END:VTIMEZONE
BEGIN:VEVENT
DTSTART;TZID=Australia/Sydney:20200211T100000
DTEND;TZID=Australia/Sydney:20200211T140000
DTSTAMP:20200227T175320
CREATED:20200129T233143Z
LAST-MODIFIED:20200129T233143Z
UID:2941-1581415200-1581429600@rdas.org.au
SUMMARY:HAVE YOUR SAY ON DISABILITY INCLUSION
DESCRIPTION:People with disability\, carers\, service providers and peak bodies are being encouraged to respond to the review of the Disability Inclusion Act 2014. \nThis is your opportunity to shape and improve Disability Inclusion in NSW. \nWe need to hear from you to ensure NSW is an inclusive and accessible state. \nIt’s easy to have your say: \n\nGo to: www.dcj.nsw.gov.au/dia-review\nRead the discussion paper\, it will give you questions and ideas to think about. It’s available in 11 languages\, Easy English and Auslan.\nGive feedback in 3 ways:\n\n\ncomplete the online survey\nwrite to us OR\njoin a workshop (see details below)\n\nThe review closes on 30 March 2020. \nRegister for the Wagga Wagga workshop \n
URL:https://rdas.org.au/event/have-your-say-on-disability-inclusion/
LOCATION:International Hotel\, 2 Lake Albert Road\, Wagga Wagga\, NSW\, 2650\, Australia
CATEGORIES:Conferences
ATTACH;FMTTYPE=image/png:https://rdas.org.au/site/wp-content/uploads/2020/01/Disability-Inclusion-Act.png
GEO:-35.1207839;147.3775588
X-APPLE-STRUCTURED-LOCATION;VALUE=URI;X-ADDRESS=International Hotel 2 Lake Albert Road Wagga Wagga NSW 2650 Australia;X-APPLE-RADIUS=500;X-TITLE=2 Lake Albert Road:geo:147.3775588,-35.1207839
END:VEVENT
END:VCALENDAR